BEGIN:VCALENDAR
VERSION:2.0
PRODID:-//Library Market//iCal Export//EN
BEGIN:VEVENT
SUMMARY:Summer Bash
UID:9253
DTSTAMP:20260421T095300Z
DTSTART:20260528T223000Z
DTEND:20260529T003000Z
LOCATION:Indianola Public Library, 207 N. B St, Indianola, IA 50125, Unite
 d States
ROOM: Library Lawn
DESCRIPTION:Food trucks (including dessert!), inflatables, lawn games, and
  more at our annual IPL block party! Also featuring board games from the D
 ealt Hand and music courtesy of KNIA and the big red radio.
URL:https://indianola.librarycalendar.com/event/summer-bash-9253
END:VEVENT
END:VCALENDAR
