BEGIN:VCALENDAR
VERSION:2.0
PRODID:-//Library Market//iCal Export//EN
BEGIN:VEVENT
SUMMARY:Outreach - VCA
UID:9419
DTSTAMP:20260421T141700Z
DTSTART:20260520T140000Z
DTEND:20260520T150000Z
LOCATION:United States
ROOM: Outreach - VCA
DESCRIPTION:
URL:https://indianola.librarycalendar.com/event/outreach-vca-9419
END:VEVENT
END:VCALENDAR
